BEGIN:VCALENDAR
VERSION:2.0
PRODID:-//Hotel Ziggy - ECPv6.15.20//NONSGML v1.0//EN
CALSCALE:GREGORIAN
METHOD:PUBLISH
X-ORIGINAL-URL:https://hotelziggy.com
X-WR-CALDESC:Events for Hotel Ziggy
REFRESH-INTERVAL;VALUE=DURATION:PT1H
X-Robots-Tag:noindex
X-PUBLISHED-TTL:PT1H
BEGIN:VTIMEZONE
TZID:UTC
BEGIN:STANDARD
TZOFFSETFROM:+0000
TZOFFSETTO:+0000
TZNAME:UTC
DTSTART:20250101T000000
END:STANDARD
END:VTIMEZONE
BEGIN:VEVENT
DTSTART;TZID=UTC:20260304T190000
DTEND;TZID=UTC:20260304T230000
DTSTAMP:20260424T230903
CREATED:20260224T003142Z
LAST-MODIFIED:20260331T105940Z
UID:10000485-1772650800-1772665200@hotelziggy.com
SUMMARY:We Found New Music
DESCRIPTION:We Found New Music Showcase with Grant Owens. \n7PM 21+ \nFree with RSVP at http://wfnm.eventbrite.com \nBAM RIGBY\nBRENDAN BAKER\nRILEY OAK\nBENSBEENDEAD.\nALEXA KATE \n 
URL:https://hotelziggy.com/event/we-found-new-music-20/
ATTACH;FMTTYPE=image/jpeg:https://hotelziggy.com/wp-content/uploads/2026/02/hf_20260224_000509_dd73259d-dc5e-4efe-ac48-2efaab4420a0-scaled.jpeg
END:VEVENT
BEGIN:VEVENT
DTSTART;TZID=UTC:20260307T190000
DTEND;TZID=UTC:20260307T233000
DTSTAMP:20260424T230903
CREATED:20260223T220524Z
LAST-MODIFIED:20260223T220524Z
UID:10000484-1772910000-1772926200@hotelziggy.com
SUMMARY:Optik Presents: AudioPuzzle
DESCRIPTION:Discover art in hip hop! Hosted by Optik\, AudioPuzzle is a live music series rooted in underground\, abstract\, and alternative rap music. \nGet Tickets \n 
URL:https://hotelziggy.com/event/optik-presents-audiopuzzle/
ATTACH;FMTTYPE=image/webp:https://hotelziggy.com/wp-content/uploads/2026/02/Optik.webp
END:VEVENT
BEGIN:VEVENT
DTSTART;TZID=UTC:20260311T190000
DTEND;TZID=UTC:20260311T230000
DTSTAMP:20260424T230903
CREATED:20260225T194002Z
LAST-MODIFIED:20260331T105849Z
UID:10000487-1773255600-1773270000@hotelziggy.com
SUMMARY:We Found New Music
DESCRIPTION:We Found New Music Showcase with Grant Owens. \n7PM 21+ \nFree with RSVP at http://wfnm.eventbrite.com \nADEN BLACK\nJENTL\nJULIANNA ALMARIO\nKING LEON & THE ROYALES\nTEO TALA\nTANVI GOKHALE \n 
URL:https://hotelziggy.com/event/we-found-new-music-21/
ATTACH;FMTTYPE=image/jpeg:https://hotelziggy.com/wp-content/uploads/2026/02/hf_20260225_180930_f7ddf99d-fe83-405f-9430-ddce9498aeab-scaled.jpeg
END:VEVENT
BEGIN:VEVENT
DTSTART;TZID=UTC:20260313T200000
DTEND;TZID=UTC:20260313T233000
DTSTAMP:20260424T230903
CREATED:20260305T222637Z
LAST-MODIFIED:20260305T222713Z
UID:10000492-1773432000-1773444600@hotelziggy.com
SUMMARY:HUGH PEEPLE & SOVORY FUNKY FRIDAY AT HOTEL ZIGGY
DESCRIPTION:RED CARPET 8pm SHOW 9pm \nJoin us in person for a night packed with funky vibes and great tunes. Hugh Peeple and Sovory are bringing the groove to Hotel Ziggy\, so come chill\, dance\, and soak up the good energy. It’s the perfect way to kick off your weekend with friends and good music! \nGet Tickets \n 
URL:https://hotelziggy.com/event/hugh-peeple-sovory-funky-friday-at-hotel-ziggy/
ATTACH;FMTTYPE=image/jpeg:https://hotelziggy.com/wp-content/uploads/2026/03/hf_20260305_222153_03da988c-b5eb-4604-929a-8eacaddb1cb0-scaled.jpeg
END:VEVENT
BEGIN:VEVENT
DTSTART;TZID=UTC:20260314T210000
DTEND;TZID=UTC:20260315T000000
DTSTAMP:20260424T230903
CREATED:20260305T223533Z
LAST-MODIFIED:20260331T105345Z
UID:10000493-1773522000-1773532800@hotelziggy.com
SUMMARY:Zap Sessions
DESCRIPTION:If the nostalgia of getting a tattoo while at a concert sparks something in you\, this is for you. \nZap Sessions is a concert & tattoo party by Beach Party Records. Tattoos are not required\, but RSVP’ing is. \n💥 DOORS 8PM Enjoy a curated menu of cocktails & mocktails inspired by each artist\, along with tasty food from Hotel Ziggy’s kitchen. \n💥 PERFORMANCES 9PM Performances by BMASE\, Esper World\, Iz LaMarr\, Phoenix Wonder\, and Vietta. Flash Tattoos by Chris McAdoo (Magic Mac Tattoos) starting at $25. DJ Sets by Ezell Brown. Early arrival is encouraged to secure parking. \n💥 THE MUSIC: A mix of genres from r&b\, pop\, hiphop\, alternative and more. \nFREE RSVP
URL:https://hotelziggy.com/event/zap-sessions-4/
ATTACH;FMTTYPE=image/jpeg:https://hotelziggy.com/wp-content/uploads/2026/03/hf_20260305_222759_663f3941-e360-4488-942d-e7d878b89cee-scaled.jpeg
END:VEVENT
BEGIN:VEVENT
DTSTART;TZID=UTC:20260315T150000
DTEND;TZID=UTC:20260315T200000
DTSTAMP:20260424T230903
CREATED:20260305T224234Z
LAST-MODIFIED:20260305T224234Z
UID:10000494-1773586800-1773604800@hotelziggy.com
SUMMARY:98th Academy Awards Viewing Party
DESCRIPTION:🎬 THE ACADEMY AWARDS VIEWING PARTY \n\n\n\n\n3:00 PM – Cocktail Hour\, Industry Networking\n4:00 PM – Live Oscars Viewing\n8:00 PM – After Party \n🎫 CAPACITY: Limited Seats (Premium Experience)
URL:https://hotelziggy.com/event/98th-academy-awards-viewing-party/
ATTACH;FMTTYPE=image/webp:https://hotelziggy.com/wp-content/uploads/2026/03/image.webp
END:VEVENT
BEGIN:VEVENT
DTSTART;TZID=UTC:20260318T190000
DTEND;TZID=UTC:20260318T230000
DTSTAMP:20260424T230903
CREATED:20260225T194546Z
LAST-MODIFIED:20260331T105738Z
UID:10000488-1773860400-1773874800@hotelziggy.com
SUMMARY:We Found New Music
DESCRIPTION:We Found New Music Showcase with Grant Owens. \n7PM 21+ \nFree with RSVP at http://wfnm.eventbrite.com \nKING\nMIKY MIK\nASME\nDELUNA\nIVY JAMES \n 
URL:https://hotelziggy.com/event/we-found-new-music-22/
ATTACH;FMTTYPE=image/jpeg:https://hotelziggy.com/wp-content/uploads/2026/02/hf_20260225_191732_c30de0f0-8b2f-4c90-b8f4-b9e1282e0583-scaled.jpeg
END:VEVENT
BEGIN:VEVENT
DTSTART;TZID=UTC:20260319T190000
DTEND;TZID=UTC:20260319T233000
DTSTAMP:20260424T230903
CREATED:20260306T180209Z
LAST-MODIFIED:20260306T180209Z
UID:10000496-1773946800-1773963000@hotelziggy.com
SUMMARY:HUNNYPOT PRESENTS: "DOPAMINE" a ROBYN-Inspired Dance/Mixer
DESCRIPTION:Join us for an unforgettable night of music\, dancing\, and pure joy as we celebrate the essence of “DOPAMINE” and the spirit of Swedish Pop-Icon ROBYN. \nGather your friends\, unleash your energy\, and let’s create magical memories together! \nParty jams provided by Hot Tub Johnnie\, Jordan Young\, & Mary Faith. Sharing their ROBYN-CORE favorites\, and exploring the intense emotions\, euphoria\, and rush of dopamine. Bring your heartbreak. \nBring your joy. Bring your entire discography of feelings. We’ll take care of the rest. \nRSVP
URL:https://hotelziggy.com/event/hunnypot-presents-dopamine-a-robyn-inspired-dance-mixer/
ATTACH;FMTTYPE=image/jpeg:https://hotelziggy.com/wp-content/uploads/2026/03/hf_20260306_175236_b037db9d-89df-4117-a66c-1a2ff9f915e0-scaled.jpeg
END:VEVENT
BEGIN:VEVENT
DTSTART;TZID=UTC:20260320T200000
DTEND;TZID=UTC:20260321T010000
DTSTAMP:20260424T230903
CREATED:20260225T173641Z
LAST-MODIFIED:20260225T180905Z
UID:10000486-1774036800-1774054800@hotelziggy.com
SUMMARY:PayDay LA Live on Sunset
DESCRIPTION:PayDay LA is Live on Sunset with special guest performances from Rapper/ Singer and Zen & Kush founder Lizzy Jeff\, plus singer Nia Dorsey and Hip Hop artist Manny Bravo! \nWe also have DJ La Paz providing the soundtrack with the latest Hip Hop and R+B hits\, and classics. \nHosted by El Prez. \nGet Tickets \n 
URL:https://hotelziggy.com/event/payday-la-live-on-sunset/
ATTACH;FMTTYPE=image/png:https://hotelziggy.com/wp-content/uploads/2026/02/hf_20260225_165144_51419ac7-bc36-4a7d-afbf-1acd969c9d9d-scaled.png
END:VEVENT
BEGIN:VEVENT
DTSTART;TZID=UTC:20260320T200000
DTEND;TZID=UTC:20260321T010000
DTSTAMP:20260424T230903
CREATED:20260330T231940Z
LAST-MODIFIED:20260330T231940Z
UID:10000506-1774036800-1774054800@hotelziggy.com
SUMMARY:PayDay LA Live on Sunset
DESCRIPTION:The Best Rap Show in LA puts you on to your new fav Rappers every third Friday of the month on the world famous Sunset strip at Hotel Ziggy. \nHosted by El Prez. \nRSVP \n 
URL:https://hotelziggy.com/event/payday-la-live-on-sunset-2/
ATTACH;FMTTYPE=image/png:https://hotelziggy.com/wp-content/uploads/2026/03/hf_20260330_231705_ace0a1c3-4ef5-4d7d-99be-249a912e037b-scaled.png
END:VEVENT
BEGIN:VEVENT
DTSTART;TZID=UTC:20260325T190000
DTEND;TZID=UTC:20260325T230000
DTSTAMP:20260424T230903
CREATED:20260225T195118Z
LAST-MODIFIED:20260331T105645Z
UID:10000489-1774465200-1774479600@hotelziggy.com
SUMMARY:We Found New Music
DESCRIPTION:We Found New Music Showcase with Grant Owens. \n7PM 21+ \nFree with RSVP at http://wfnm.eventbrite.com \nANDRE MIGUEL & THE MOMENT\nJOHN THORNTON\nLATTE SAMUELS\nCHLOE CAROLINE\nJORDAN ANTHONY\nSARINA  \n 
URL:https://hotelziggy.com/event/we-found-new-music-23/
ATTACH;FMTTYPE=image/jpeg:https://hotelziggy.com/wp-content/uploads/2026/02/hf_20260225_194716_1b7f09f2-82ec-4437-ba8b-2baca03e3298-scaled.jpeg
END:VEVENT
BEGIN:VEVENT
DTSTART;TZID=UTC:20260327T200000
DTEND;TZID=UTC:20260328T000000
DTSTAMP:20260424T230903
CREATED:20260305T221821Z
LAST-MODIFIED:20260305T224433Z
UID:10000491-1774641600-1774656000@hotelziggy.com
SUMMARY:Artopia: 1 Year Anniversary
DESCRIPTION:A night of art\, music\, and creative energy on the Sunset Strip. \nArtopia returns to Hotel Ziggy to celebrate its one-year anniversary with an immersive evening bringing together local artists\, live music\, vinyl\, fashion\, and community. \nExplore original artwork from independent artists\, watch live art being created in real time\, dig through vinyl\, and experience a creative marketplace where everything you see can go home with you. \nExpect a lively mix of music\, dance\, art\, and culture in Ziggy’s signature creative setting. \nCome discover something new and meet the artists behind the work. \nCover: $9 at the door
URL:https://hotelziggy.com/event/artopia-1-year-anniversary/
ATTACH;FMTTYPE=image/jpeg:https://hotelziggy.com/wp-content/uploads/2026/03/hf_20260305_221129_7bbd19b7-64d0-444d-902e-58eaa3da97f9-scaled.jpeg
END:VEVENT
BEGIN:VEVENT
DTSTART;TZID=UTC:20260328T190000
DTEND;TZID=UTC:20260328T233000
DTSTAMP:20260424T230903
CREATED:20260305T190513Z
LAST-MODIFIED:20260331T105114Z
UID:10000490-1774724400-1774740600@hotelziggy.com
SUMMARY:Cobalt Presents
DESCRIPTION:Tickets: $10 AT THE DOOR \n\n\n\nMadam Bombs\nTomorrow’s Anthem\nSugarfix\nMinor Strut\nAyva\n6 Cylinders
URL:https://hotelziggy.com/event/cobalt-presents-2/
ATTACH;FMTTYPE=image/jpeg:https://hotelziggy.com/wp-content/uploads/2026/03/hf_20260305_194038_c8222ce8-6d05-466d-84b8-19caf9b08051-scaled.jpeg
END:VEVENT
BEGIN:VEVENT
DTSTART;TZID=UTC:20260329T180000
DTEND;TZID=UTC:20260329T223000
DTSTAMP:20260424T230903
CREATED:20260310T235311Z
LAST-MODIFIED:20260310T235311Z
UID:10000498-1774807200-1774823400@hotelziggy.com
SUMMARY:Trans Day of Visibility Concert
DESCRIPTION:Ryan Cassata & The Top Surgeons\, Astrud Aurelia\, Kristen Ford\, and Lizz Shine & the HRT at The Hotel Ziggy in WeHo \n\n\n\n\nCome celebrate Trans Day of Visibility with a star studded lineup featuring Ryan Cassata & The Top Surgeons (europe tour kickoff)\, Astrud Aurelia\, Kristen Ford\, and Lizz Shine & the HRT at The Hotel Ziggy in WeHo! Come celebrate the diverse beauty of the trans community! We will be donating 10% of ticket sales to ACLU Kansas to fight for trans rights! \n\nGet Tickets \n 
URL:https://hotelziggy.com/event/trans-day-of-visibility-concert/
ATTACH;FMTTYPE=image/png:https://hotelziggy.com/wp-content/uploads/2026/03/hf_20260310_235015_e88e2282-35cc-4d4e-a0c8-240244574bf5-scaled.png
END:VEVENT
END:VCALENDAR