BEGIN:VCALENDAR
VERSION:2.0
PRODID:-//Hotel Ziggy - ECPv6.15.20//NONSGML v1.0//EN
CALSCALE:GREGORIAN
METHOD:PUBLISH
X-ORIGINAL-URL:https://hotelziggy.com
X-WR-CALDESC:Events for Hotel Ziggy
REFRESH-INTERVAL;VALUE=DURATION:PT1H
X-Robots-Tag:noindex
X-PUBLISHED-TTL:PT1H
BEGIN:VTIMEZONE
TZID:UTC
BEGIN:STANDARD
TZOFFSETFROM:+0000
TZOFFSETTO:+0000
TZNAME:UTC
DTSTART:20250101T000000
END:STANDARD
END:VTIMEZONE
BEGIN:VEVENT
DTSTART;TZID=UTC:20260424T190000
DTEND;TZID=UTC:20260424T230000
DTSTAMP:20260424T082035
CREATED:20260316T225052Z
LAST-MODIFIED:20260421T205913Z
UID:10000500-1777057200-1777071600@hotelziggy.com
SUMMARY:We Found New Music
DESCRIPTION:We Found New Music Showcase with Grant Owens. \n7PM 21+ \nFree with RSVP at http://wfnm.eventbrite.com \nAUGUST LEE STEVENS\nELLE WINTER\nCASH HARRINGTON\nCHLOE BEE (& BRO’S)\nJASMINE STAR \n 
URL:https://hotelziggy.com/event/we-found-new-music-3/
ATTACH;FMTTYPE=image/jpeg:https://hotelziggy.com/wp-content/uploads/2026/03/04.24.2026-Line-Up-v2-scaled.jpg
END:VEVENT
BEGIN:VEVENT
DTSTART;TZID=UTC:20260425T190000
DTEND;TZID=UTC:20260425T233000
DTSTAMP:20260424T082035
CREATED:20260416T224034Z
LAST-MODIFIED:20260416T224034Z
UID:10000511-1777143600-1777159800@hotelziggy.com
SUMMARY:Cobalt Presents
DESCRIPTION:Tickets: $10 AT THE DOOR \n\n\n\nSERENITY!\nBARSTOOL DESKJOB\nEMPLOYEE OF THE MONTH\nSTRYCH9\nKILBORN\nAVERIL 
URL:https://hotelziggy.com/event/cobalt-presents-4/
ATTACH;FMTTYPE=image/png:https://hotelziggy.com/wp-content/uploads/2026/04/hf_20260416_213314_a6675f0f-4c1e-48be-a7ba-645a50f735c0-scaled.png
END:VEVENT
BEGIN:VEVENT
DTSTART;TZID=UTC:20260429T190000
DTEND;TZID=UTC:20260429T230000
DTSTAMP:20260424T082035
CREATED:20260318T225357Z
LAST-MODIFIED:20260331T110507Z
UID:10000503-1777489200-1777503600@hotelziggy.com
SUMMARY:We Found New Music
DESCRIPTION:We Found New Music Showcase with Grant Owens. \n7PM 21+ \nFree with RSVP at http://wfnm.eventbrite.com \nDEVIN KOWL\nTHE PRVLG\nLOBO TIMI\nMIA HART\nLEEDY \n 
URL:https://hotelziggy.com/event/we-found-new-music-6/
ATTACH;FMTTYPE=image/jpeg:https://hotelziggy.com/wp-content/uploads/2026/03/hf_20260318_212612_8c233e4c-45fa-4842-8899-2eeaa13e8883-scaled.jpeg
END:VEVENT
BEGIN:VEVENT
DTSTART;TZID=UTC:20260501T200000
DTEND;TZID=UTC:20260501T233000
DTSTAMP:20260424T082035
CREATED:20260423T170127Z
LAST-MODIFIED:20260423T170320Z
UID:10000512-1777665600-1777678200@hotelziggy.com
SUMMARY:aftercoast album release show
DESCRIPTION:Join aftercoast for his album release show! Born and raised in Los Angeles\, aftercoast blends his 80s and 90s California upbringing with chillwave influences to create candidly emotional\, cosmic alternative electro-pop that puts lyrics at the forefront.\nTickets: Go to www.aftercoast.com and follow the ticket instructions:\n🎟️ $11 Community Ticket🎟️ $35 Lightwater Circle: includes ticket + signed aftercoast merch item (hat or journal)\nDetailsDate: May 1\nTime: 8:00 PM – 12:00 AM\nSpecial Guest Performances by: Activations with JJKay Stahl\nListen: https://open.spotify.com/artist/3qfCetX6KDZRirxFxlixfe
URL:https://hotelziggy.com/event/aftercoast-album-release-show/
ATTACH;FMTTYPE=image/png:https://hotelziggy.com/wp-content/uploads/2026/04/large-Hotel-Ziggy-poster-1920-x-1080-px-1.png
END:VEVENT
BEGIN:VEVENT
DTSTART;TZID=UTC:20260509T193000
DTEND;TZID=UTC:20260509T233000
DTSTAMP:20260424T082035
CREATED:20260423T181225Z
LAST-MODIFIED:20260423T181225Z
UID:10000513-1778355000-1778369400@hotelziggy.com
SUMMARY:Sofar Sounds x LA Singles
DESCRIPTION:We’re partnering with LA Singles for single’s night at this buzzing music lounge. You can expect craft cocktails\, soulful sets\, & time to mingle between performances. \nGrab a wristband when you arrive: \nSINGLE? GREEN! \nCOMPLICATED? YELLOW! \nTAKEN BUT HERE TO SUPPORT YOUR FRIENDS? RED! \n\n\n\n\n\n2 artists\, plenty of mingling time \n\n\nJust a gig\, but everyone is single \nWomen Tickets \nMen Tickets
URL:https://hotelziggy.com/event/sofar-sounds-x-la-singles/
ATTACH;FMTTYPE=image/png:https://hotelziggy.com/wp-content/uploads/2026/04/hf_20260423_180850_de32781a-dfd3-4b3e-b6ee-501f44a000fd-scaled.png
END:VEVENT
BEGIN:VEVENT
DTSTART;TZID=UTC:20260515T210000
DTEND;TZID=UTC:20260516T000000
DTSTAMP:20260424T082035
CREATED:20260416T212238Z
LAST-MODIFIED:20260416T212238Z
UID:10000509-1778878800-1778889600@hotelziggy.com
SUMMARY:Zap Sessions
DESCRIPTION:If the nostalgia of getting a tattoo while at a concert sparks something in you\, this is for you. Zap Sessions is a concert & tattoo party by Beach Party Records. \nTattoos are not required\, but RSVP’ing is. \n💥 DOORS 8PM Enjoy a curated menu of cocktails & mocktails inspired by each artist\, along with tasty food from Hotel Ziggy’s kitchen. \n💥 PERFORMANCES 9PM Performances by Latte Samuels\, Str33t\, Grizz\, Drew Debonair and Arie. Flash Tattoos by Chris McAdoo (Magic Mac Tattoos) starting at $25. DJ Sets by Ezell Brown. Early arrival is encouraged to secure parking. \n💥 THE MUSIC: A mix of genres from r&b\, pop\, hiphop\, alternative and more. \nRSVP
URL:https://hotelziggy.com/event/zap-sessions-6/
ATTACH;FMTTYPE=image/png:https://hotelziggy.com/wp-content/uploads/2026/04/hf_20260416_210932_aaa579a6-3f47-4d86-acc4-91beaa52c13b-scaled.png
END:VEVENT
BEGIN:VEVENT
DTSTART;TZID=UTC:20260523T190000
DTEND;TZID=UTC:20260523T220000
DTSTAMP:20260424T082035
CREATED:20260423T183427Z
LAST-MODIFIED:20260423T183611Z
UID:10000514-1779562800-1779573600@hotelziggy.com
SUMMARY:LA SINGLES 40+ NIGHT
DESCRIPTION:Ready to mix\, mingle\, and meet cool singles over 40 for a fun night of laughs and connections? \n\n\n\n\nA SINGLES 40+ NIGHT💞 \nYou’ve done the apps. You’ve done the setups. Now do something that actually works. LA Singles 40+ brings together 100+ single professionals in their 40s\, 50s\, for one night of real\, face-to-face connection at some of LA’s best venues.\nNo speed dating. No name tags.\nJust show up and be yourself and that’s enough.\nWHAT TO EXPECT\n🗓 SATURDAY\, MAY 23rd\n⏰ 7:00 PM – 10:00 PM\n📍 Hotel Ziggy\n👥 Ages 40–55 \n🎵DJ sets all night to set the vibe\n🪧 Ice-breaker games\n🔮 Tarot reader on-site\n🍕 Pizza by Pizza Girl (available for purchase until 10 PM) \n🆔 21+ to enter — valid ID required\n💃 Dress Code: Dress to impress. Elevated date-night energy — chic\, bold\, and confident.\nNo shorts\, no sandals. \n\nVALET AVAILABLE\nWE ALWAYS RECOMMEND TO UBER ( sunset strip is always busy on weekends )\n\nGet Tickets
URL:https://hotelziggy.com/event/la-singles-40-night/
ATTACH;FMTTYPE=image/png:https://hotelziggy.com/wp-content/uploads/2026/04/hf_20260423_182719_0092f758-9293-4e7e-949c-e2591256bb1e-scaled.png
END:VEVENT
BEGIN:VEVENT
DTSTART;TZID=UTC:20260606T120000
DTEND;TZID=UTC:20260606T170000
DTSTAMP:20260424T082035
CREATED:20260331T024443Z
LAST-MODIFIED:20260331T024443Z
UID:10000507-1780747200-1780765200@hotelziggy.com
SUMMARY:SPLASHIANA Pool Party
DESCRIPTION:SPLASHIANA Pool Party \nJune 6 | 12-5PM \nIn partnership with Official Travel Partner POOF DOOF\, OUTLOUD presents SPLASHIANA\, an exclusive pool party takeover at the iconic Hotel Ziggy. \nGrab your swimsuit and your chosen family and dive into a sun-soaked Saturday of poolside beats\, fierce drag\, and special guests. \nDetails\nFull service bar and food menu available\n21+ only with valid ID\nAll sales final\nNo refunds or exchanges \nGet Tickets
URL:https://hotelziggy.com/event/splashiana-pool-party/
ATTACH;FMTTYPE=image/png:https://hotelziggy.com/wp-content/uploads/2026/03/2c5e1389-a1e1-40d3-b904-0ad201b89afb.png
END:VEVENT
BEGIN:VEVENT
DTSTART;TZID=UTC:20260613T130000
DTEND;TZID=UTC:20260613T180000
DTSTAMP:20260424T082035
CREATED:20260404T022027Z
LAST-MODIFIED:20260404T022027Z
UID:10000508-1781355600-1781373600@hotelziggy.com
SUMMARY:BANANAS: LA PRIDE POOL PARTY 2026
DESCRIPTION:LA Pride Pool season starts here. \nBack for its third year\, BANANAS returns for LA Pride; hotter\, louder\, and fully in its element. \nHot bodies\, cold drinks\, pop anthems\, and jungle energy taking over the pool. \nAnimal print on. Inhibitions off. \n  \nDJ Jae Fusz spins the pop hits you love with a tropical\, tribal twist\, built for sun\, skin\, and movement. \n  \n💦 Swim. Tan. Dance. Repeat.\n🌴 Poolside all day\n🍌 This is where Pride heats up \n🎽 Suggested Dress Code: Animal print swimwear (toucans\, cheetahs & bananas welcome) \n \n🎟 TICKETS \n\nEarly Bird: $15\n\n\nGeneral Admission (online price): $20\n\n\nDoor Cover: $25\n\n💛 VIP RESERVATIONS:  Poolside and daybed options available (admits 4).\nReserve yours for a nonrefundable $50 fee (does not apply toward your spend).\nEach reservation has a $350 minimum spend\, which can be used toward beverages (alcoholic\, non-alcoholic drinks\, or bottle service). \nQuestions? Email club@humpevents.com \nSponsored by Mistr \nGet Tickets \nLearn More
URL:https://hotelziggy.com/event/bananas-la-pride-pool-party-2026/
ATTACH;FMTTYPE=image/jpeg:https://hotelziggy.com/wp-content/uploads/2026/04/scruff-bananss-june-13.jpg
END:VEVENT
BEGIN:VEVENT
DTSTART;TZID=UTC:20260925T190000
DTEND;TZID=UTC:20260925T233000
DTSTAMP:20260424T082035
CREATED:20260310T230518Z
LAST-MODIFIED:20260310T230518Z
UID:10000497-1790362800-1790379000@hotelziggy.com
SUMMARY:The Otherness live at Hotel Ziggy
DESCRIPTION:Patagonia-born rock band The Otherness brings melodic\, high-energy pop-rock to the Ziggy stage. Known for big choruses\, sharp guitars\, and tight vocal harmonies\, the band has toured the UK\, Europe\, and the U.S.\, earning praise from BBC 6 Music and NME. \nExpect a punchy set of original songs and new material from their upcoming album Broken Latitudes\, arriving in 2026. \nCome catch them live on the Sunset Strip. \nGet Tickets \n 
URL:https://hotelziggy.com/event/the-otherness-live-at-hotel-ziggy/
ATTACH;FMTTYPE=image/webp:https://hotelziggy.com/wp-content/uploads/2026/03/The-Otherness.webp
END:VEVENT
END:VCALENDAR